BEGIN:VCALENDAR
VERSION:2.0
PRODID:-//Labcritics - ECPv6.15.11//NONSGML v1.0//EN
CALSCALE:GREGORIAN
METHOD:PUBLISH
X-WR-CALNAME:Labcritics
X-ORIGINAL-URL:https://labcritics.com
X-WR-CALDESC:Events for Labcritics
REFRESH-INTERVAL;VALUE=DURATION:PT1H
X-Robots-Tag:noindex
X-PUBLISHED-TTL:PT1H
BEGIN:VTIMEZONE
TZID:UTC
BEGIN:STANDARD
TZOFFSETFROM:+0000
TZOFFSETTO:+0000
TZNAME:UTC
DTSTART:20250101T000000
END:STANDARD
END:VTIMEZONE
BEGIN:VEVENT
DTSTART;VALUE=DATE:20260309
DTEND;VALUE=DATE:20260313
DTSTAMP:20260423T203304
CREATED:20260103T124559Z
LAST-MODIFIED:20260103T124559Z
UID:13754-1773014400-1773359999@labcritics.com
SUMMARY:HIMSS Global Health Conference & Exhibition
DESCRIPTION:The HIMSS Global Health Conference & Exhibition is the largest and most influential healthcare information technology (Health IT) event in the world. It serves as the flagship annual conference of HIMSS (Healthcare Information and Management Systems Society) and acts as a global convening point for healthcare\, technology\, policy\, and innovation leaders. \n\nWho Attends HIMSS?\nHIMSS has one of the most senior and decision-heavy audiences of any healthcare conference. \nAttendee Profile\n\n\nHospital & Health System Leaders \n\n\nCEOs\, COOs\, CMIOs\, CNIOs \n\n\nCIOs\, CTOs\, CISOs \n\n\n\n\nClinical Leadership \n\n\nPhysicians\, nurses\, informaticists \n\n\nClinical operations & care transformation leaders \n\n\n\n\nHealth IT & Digital Health Executives \n\n\nEHR vendors \n\n\nAI & analytics companies \n\n\nInteroperability & data platform providers \n\n\n\n\nGovernment & Policy Makers \n\n\nPublic health agencies \n\n\nNational healthcare systems \n\n\nRegulators & standards bodies \n\n\n\n\nPayers & Life Sciences \n\n\nInsurance providers \n\n\nPharma & diagnostics digital teams \n\n\n\n\nStartups & Investors \n\n\nDigital health startups \n\n\nHealth-focused VCs & corporate innovation teams \n\n\n\n\n\nUnlike lab-specific conferences\, HIMSS is system-level: it attracts people who make enterprise-wide technology\, data\, and policy decisions. \n\n 
URL:https://labcritics.com/upcoming-event/himss-global-health-conference-exhibition/
CATEGORIES:Diagnostics,Medical
ATTACH;FMTTYPE=image/png:https://labcritics.com/wp-content/uploads/2026/01/Screenshot-2026-01-03-at-6.14.42 PM.png
END:VEVENT
END:VCALENDAR