BEGIN:VCALENDAR
VERSION:2.0
PRODID:-//Labcritics - ECPv6.15.11//NONSGML v1.0//EN
CALSCALE:GREGORIAN
METHOD:PUBLISH
X-WR-CALNAME:Labcritics
X-ORIGINAL-URL:https://labcritics.com
X-WR-CALDESC:Events for Labcritics
REFRESH-INTERVAL;VALUE=DURATION:PT1H
X-Robots-Tag:noindex
X-PUBLISHED-TTL:PT1H
BEGIN:VTIMEZONE
TZID:UTC
BEGIN:STANDARD
TZOFFSETFROM:+0000
TZOFFSETTO:+0000
TZNAME:UTC
DTSTART:20230101T000000
END:STANDARD
END:VTIMEZONE
BEGIN:VEVENT
DTSTART;VALUE=DATE:20241008
DTEND;VALUE=DATE:20241009
DTSTAMP:20260420T103049
CREATED:20240919T093837Z
LAST-MODIFIED:20240919T093837Z
UID:12319-1728345600-1728431999@labcritics.com
SUMMARY:Creative Disruption Forum
DESCRIPTION:The Creative Disruption Forums (CDFs)\, hosted by Prof. Tony Sedgwick and Graham Combe\, have been shaping thought leadership through in-person and virtual events for the past eight years. Since their launch on 22 May 2024 in London\, CDFs have been held in Cambridge on 13 June and Oxford on 10 July\, with the next event scheduled for 8 October 2024 in Central Oxford. Targeting CXOs\, R&D directors\, service providers\, and investors\, these forums aim to drive innovation and strategic dialogue. More sessions are planned later this year in Manchester\, London\, and Cambridge.
URL:https://labcritics.com/upcoming-event/creative-disruption-forum/
LOCATION:Inventa\, Botley Road Oxford\, oxford\, oxfordshire\, OX2 0HA\, United Kingdom
CATEGORIES:Practical course
ATTACH;FMTTYPE=image/png:https://labcritics.com/wp-content/uploads/2024/09/Screenshot-2024-09-19-at-3.06.57 PM.png
ORGANIZER;CN="Graham Combe":MAILTO:graham@biosell.co.uk.
END:VEVENT
END:VCALENDAR