BEGIN:VCALENDAR
VERSION:2.0
PRODID:-//Labcritics - ECPv6.15.11//NONSGML v1.0//EN
CALSCALE:GREGORIAN
METHOD:PUBLISH
X-ORIGINAL-URL:https://labcritics.com
X-WR-CALDESC:Events for Labcritics
REFRESH-INTERVAL;VALUE=DURATION:PT1H
X-Robots-Tag:noindex
X-PUBLISHED-TTL:PT1H
BEGIN:VTIMEZONE
TZID:UTC
BEGIN:STANDARD
TZOFFSETFROM:+0000
TZOFFSETTO:+0000
TZNAME:UTC
DTSTART:20230101T000000
END:STANDARD
END:VTIMEZONE
BEGIN:VEVENT
DTSTART;VALUE=DATE:20241016
DTEND;VALUE=DATE:20241017
DTSTAMP:20260421T050618
CREATED:20240909T070036Z
LAST-MODIFIED:20240909T070036Z
UID:12196-1729036800-1729123199@labcritics.com
SUMMARY:ANZSCDB Victorian Cell and Developmental Biology Meeting
DESCRIPTION:October 16 at the Bio21 Institute – David Penington Building is the date of the 16th ANZSCDB Victorian Cell and Developmental Biology Meeting. Researchers\, students\, and industry experts come together for an in-person event to explore the most recent developments in cell and developmental biology. Participants will get the opportunity to present their own research\, network with colleagues\, and pick the brains of prominent industry professionals. Being a part of this vibrant scientific community and staying up to date with the latest advancements in this fascinating field of biology is a great opportunity.
URL:https://labcritics.com/upcoming-event/anzscdb-victorian-cell-and-developmental-biology-meeting/
LOCATION:Bio21 Institute – David Penington Building\, 30 Flemington Road Parkville\, Melbourne\, Victoria\, 3052\, Australia
CATEGORIES:Cell Biology,Molecular Biology
ATTACH;FMTTYPE=image/png:https://labcritics.com/wp-content/uploads/2024/09/Screenshot-2024-09-09-at-12.29.17 PM.png
ORGANIZER;CN="ANZSCDB":MAILTO:aleksandra.filipovska@uwa.edu.au
END:VEVENT
END:VCALENDAR