BEGIN:VCALENDAR
VERSION:2.0
PRODID:-//Labcritics - ECPv6.15.11//NONSGML v1.0//EN
CALSCALE:GREGORIAN
METHOD:PUBLISH
X-WR-CALNAME:Labcritics
X-ORIGINAL-URL:https://labcritics.com
X-WR-CALDESC:Events for Labcritics
REFRESH-INTERVAL;VALUE=DURATION:PT1H
X-Robots-Tag:noindex
X-PUBLISHED-TTL:PT1H
BEGIN:VTIMEZONE
TZID:UTC
BEGIN:STANDARD
TZOFFSETFROM:+0000
TZOFFSETTO:+0000
TZNAME:UTC
DTSTART:20230101T000000
END:STANDARD
END:VTIMEZONE
BEGIN:VEVENT
DTSTART;VALUE=DATE:20240917
DTEND;VALUE=DATE:20240918
DTSTAMP:20260424T234123
CREATED:20240909T064427Z
LAST-MODIFIED:20240909T064427Z
UID:12189-1726531200-1726617599@labcritics.com
SUMMARY:University of Melbourne Centre for Cancer Research Seminar
DESCRIPTION:An overview of the Ontario Institute for Cancer Research’s (OICR) principal programs\, technological resources\, research strategy\, and international relationships will be provided by Dr. Laszlo Radvanyi\, OICR President and Scientific Director. More than 325 researchers working in the fields of cancer genetics\, molecular biology\, biomarker development\, and population health studies are housed at OICR\, a leading Canadian cancer research funding organization\, in Toronto. \nThe goal of the institute is to improve cancer management and prevent relapse by translating state-of-the-art findings into practical applications\, with a focus on liquid biopsies\, precision oncology\, and medicines. In addition\, Dr. Radvanyi will discuss findings from his investigation into the function of retrotransposable elements in cancer\, emphasizing new pathways and potential treatment targets.
URL:https://labcritics.com/upcoming-event/university-of-melbourne-centre-for-cancer-research-seminar/
LOCATION:Lecture Theatre B\, Lvl 7\, VCCC\, 305 Grattan Street Lecture Theatre B\, Level 7 \, VIC 3052\, Melbourne\, Victoria\, 3052\, Australia
CATEGORIES:Cancer,Cell Therapy
ATTACH;FMTTYPE=image/png:https://labcritics.com/wp-content/uploads/2024/09/Screenshot-2024-09-09-at-12.05.49 PM.png
ORGANIZER;CN="University of Melbourne Centre for Cancer Research":MAILTO:caps-reception@unimelb.edu.au
END:VEVENT
END:VCALENDAR